Workbook
Name _unitType: #REF!
Name _unitType: #REF!
Name CellBelow: "B7"
Name Default: #REF!
Name NDsteps: '[1]Tabla de valores'!#REF!
Name NDsteps: '[2]Tabla de valores'!#REF!
Name Nondefault: #REF!
Name Nondefault: #REF!
Name nonNDsteps: '[1]Tabla de valores'!#REF!
Name nonNDsteps: '[2]Tabla de valores'!#REF!
Name Ratio1: #REF!
Name Ratio1: #REF!
Name Ratio2: #REF!
Name Ratio2: #REF!
Name Table: #REF!
Name Table: #REF!
Name Toilet: '[1]Tabla de valores'!#REF!
Name Toilet: '[2]Tabla de valores'!#REF!
Name Total1: #REF!
Name Total1: #REF!
Name Total2: #REF!
Name Total2: #REF!
Name Urinal: '[1]Tabla de valores'!#REF!
Name Urinal: '[2]Tabla de valores'!#REF!

Sheet Instrucciones
D4: Calculador de ahorro de energía
D5: Versión 3.0 2023 | H5: E1. Uso de la energía
D6: Consejo Colombiano de Construccion Sostenible - CCCS
D7: Todos los derechos reservados | H7: Objetivo: Aportar a la mitigación del cambio climático y optimizar los costos de operación mediante la reducción de la demanda de energía, teniendo en cuenta el confort del usuario final.
D8: Fecha actualización: 2 de diciembre de 2025
B12: Convenciones del calculador | C12: Color de la celda
B13: Títulos informativos
B14: Información para diligenciar por el usuario
B15: Cálculos del formato
B17: Instrucciones por sección
B18: Ver por pestaña
B19: Por favor también considere los comentarios presentes en el calculador.
B21: Documentación requerida en diseño
B22: 1. Descripción General: Descripción de cómo el equipo del proyecto demuestra el cumplimiento del requerimiento e indicar la opción de cumplimiento. Opción 1: Método de desempeño energético 1. Descripción del proyecto: Debe incluir emplazamiento, ocupación, calendario de uso, análisis y selección de la zona climática. 2. Descripción de las estrategias: Descripción de las estrategias de eficiencia energética a implementar. 3. Resultados de modelación: Reporte de software que incluya datos de entrada, datos de edificio de línea base, resultados de consumos energéticos por sistema y resultados totales. 4. Calculador: E1_CASA_Calculador desempeño diligenciado 5. Cálculo de ahorro CPIt respecto a CPI: Calculo de porcentaje de ahorro de costos y GEI, mostrando el detalle del cálculo de BBUEC, BBREC, BBP y selección de FDE.
B23: Documentación requerida en construcción
B24: Fichas técnicas finales: de todos los componentes del sistema de acuerdo con las estrategias de eficiencia energética documentadas. Nota: Si el proyecto cumple con el lineamiento de comisionamiento GIP02, en el requerimiento opcional y el requerimiento opcional del E4 – Electrodomésticos eficientes y de bajas emisiones, se deberá entregar confirmación de que la información está en el manual de los sistemas y una relación de las páginas en que se encuentra la información.

Sheet Información General
C4: Calculador de ahorro de energía
C5: Versión 3.0 2023 | G5: E1. Uso de la energía
C6: Consejo Colombiano de Construccion Sostenible - CCCS
C7: Todos los derechos reservados | G7: Objetivo: Aportar a la mitigación del cambio climático y optimizar los costos de operación mediante la reducción de la demanda de energía, teniendo en cuenta el confort del usuario final.
C8: Fecha actualización: 2 de diciembre de 2025
B14: INFORMACIÓN GENERAL
B16: Complete la pestaña de información general antes de completar cualquier otra pestaña. Las selecciones que se realicen en esta pestaña determinarán las opciones disponibles en las siguientes pestañas.
B18: Identificador del proyecto | E18: NOMBRE PROYECTO
B20: Nombre del proyecto | E20: NOMBRE PROYECTO
B22: Versión CASA
B24: Unidades de medida
B26: Edificios Múltiples
B28: =IF(E26="SI", "¿Cómo fueron modelados los edificios?","")
B30: =+IF(E24="IP"," Área acondicionada (pies cuadrados)","Área acondicionada (metros cuadrados)") -> Área acondicionada (metros cuadrados)
B32: =+IF(E24="IP"," Área no acondicionada (pies cuadrados)","Área no acondicionada (metros cuadrados)") -> Área no acondicionada (metros cuadrados)
B34: =+IF(E24="IP"," Área total (pies cuadrados)","Área total (metros cuadrados)") -> Área total (metros cuadrados)
B38: INFORMACIÓN MODELACIÓN ENERGÉTICA
B40: Modelador energético
B42: Modelación energética basada en
B44: Programa de simulación | G44: Si otro, ¿Cuál?
B46: Estándar utilizado
B48: Archivo climático utilizado
B50: Zona climática
B53: Cumplimiento del software de modelación energética. El software de simulación utilizado por el proyecto tiene todas las capacidades descritas en la sección "G2 Requerimientos de simulación generales" en el apéndice G del ASHRAE 90.1 de 2016
B55: Cumplimiento de la metodología de modelación energética. El programa de simulación utiliza tanto para la línea base como para el modelo propuesto las suposiciones y la metodología descrita en la sección "G2 Requerimientos de simulación generales" en el apéndice G del ASHRAE 90.1 de 2016

Sheet Horarios
C4: Calculador de ahorro de energía
C5: Versión 3.0 2023 | G5: E1. Uso de la energía
C6: Consejo Colombiano de Construccion Sostenible - CCCS
C7: Todos los derechos reservados | G7: Objetivo: Aportar a la mitigación del cambio climático y optimizar los costos de operación mediante la reducción de la demanda de energía, teniendo en cuenta el confort del usuario final.
C8: Fecha actualización: 2 de diciembre de 2025
B13: HORARIOS
B19: Identificación del edificio | C19: Areas servidas | D19: Horas equivalentes de uso al año (máximo 8760) | O19: Setpoint de temperatura
D20: Iluminación Interior | E20: Agua Caliente | F20: Tomas y equipos receptáculos | G20: Refrigeración | H20: Cocina | I20: Elevadores | J20: Iluminación Exterior | K20: Otra cargas (Indicar cargas) | M20: Ventilación | N20: Aire acondicionado | O20: =+IF('Información General'!E24="IP","Enfriamiento (Grados F)","Enfriamiento (Grados Celsius)") -> Enfriamiento (Grados Celsius) | P20: =+IF('Información General'!E24="IP","Calentamiento (Grados F)","Calentamiento (Grados Celsius)") -> Calentamiento (Grados Celsius)
B22: =+'Información General'!$E$20 -> NOMBRE PROYECTO
B23: =+'Información General'!$E$20 -> NOMBRE PROYECTO
B24: =+'Información General'!$E$20 -> NOMBRE PROYECTO
B25: =+'Información General'!$E$20 -> NOMBRE PROYECTO
B26: =+'Información General'!$E$20 -> NOMBRE PROYECTO
B27: =+'Información General'!$E$20 -> NOMBRE PROYECTO
B28: =+'Información General'!$E$20 -> NOMBRE PROYECTO
B29: =+'Información General'!$E$20 -> NOMBRE PROYECTO
B30: =+'Información General'!$E$20 -> NOMBRE PROYECTO
B31: =+'Información General'!$E$20 -> NOMBRE PROYECTO
B32: =+'Información General'!$E$20 -> NOMBRE PROYECTO

Sheet Elementos Opacos
D4: Calculador de ahorro de energía
D5: Versión 3.0 2023 | H5: E1. Uso de la energía
D6: Consejo Colombiano de Construccion Sostenible - CCCS
D7: Todos los derechos reservados | H7: Objetivo: Aportar a la mitigación del cambio climático y optimizar los costos de operación mediante la reducción de la demanda de energía, teniendo en cuenta el confort del usuario final.
D8: Fecha actualización: 2 de diciembre de 2025
B13: ENSAMBLES OPACOS
B18: Requerimientos para la envolvente opaca | O18: Notas adicionales
B20: Todos los espacios residenciales se han modelado de acuerdo a los tipos de construcción de la tabla 5.5 del estándar ASHRAE 90.1 DE 2016.
B22: Para espacios existentes, existen cambios con respecto a la condición previa ( por ejemplo, espacios que no eran acondicionado que pasaron a ser condicionados
B24: El ensamblaje de la envolente opaca separando espacios no acondicionado de acondicionados fueron modelados de acuerdo con el manual de usuario del estándar AHSRAE 90.1 de 2016, sección 5.1.2, Figura 5-B.
B26: Todas las nuevas construcciones de la envolvente opaca fueron modeladas de acuerdo a lo requerido por la tabla 5.5 para la zona climática del proyecto y la tabla G3.1#5(b)
B28: Todos las construcciones del proyecto propuesto como, cubiertas, entrepisos, muros exterior por encima del nivel 0, muros externos por debajo del nivel 0, y puertas opacas se modelaron como se diseñaron con los factores térmicos ( Valor U, Valor C y Valor F) consistentes con el apéndice A.
B30: La tasas de infiltración y los horarios fueron modelados iguales en el modelo de la línea base y el propuesto
B34: Contrucciones de la envolvente opaca
B36: Cubierta
B38: Información General | F38: Línea Base | H38: Propuesto | K38: Reflectancia solar y emitancia térmica de cubierta
B39: Edificio | C39: Construcción Nueva o Existente | D39: Categoria de acondicionamiento de espacio | F39: Descripción | G39: Valor U - Ensamblaje | H39: Descripción | I39: Valor U - Ensamblaje | K39: Línea Base | L39: Propuesto
B40: Notas Importantes | F40: Describir la construcción de cubierta de la línea base ( por ejemplo: R-20 (R-2.6), aislamiento completo de cubierta) Los valores deben ser consistentes con la tabla 5.5 del estandándar ASHRAE 90.1 de 2016 | H40: Describir la construcción de cubierta, esta debe estar diseñada y ser consistente con el apéndice A del estándar ASHRAE 90.1 de 2016. | K40: Debe estar de acuerdo con la sección 5.5.3.1.1(a) o 0.3/0.9 por la tabla G3.1#5(c). Verificar los requerimientos para las zonas climática 1 a la 3. | O40: Notas adicionales
B41: =+'Información General'!$E$20 -> NOMBRE PROYECTO
B42: =+'Información General'!$E$20 -> NOMBRE PROYECTO
B47: Muros exteriores por encima del nivel 0
B49: Información General | F49: Línea Base | H49: Propuesto
B50: Edificio | C50: Construcción Nueva o Existente | D50: Categoria de acondicionamiento de espacio | F50: Descripción | G50: Valor U - Ensamblaje | H50: Descripción | I50: Valor U - Ensamblaje
B51: Notas Importantes | F51: Describir la construcción de los muros exteriores de la línea base ( por ejemplo: R-13 (R-2.3),marco de acero) Los valores deben ser consistentes con la tabla 5.5 del estandándar ASHRAE 90.1 de 2016 | H51: Describir la construcción de los muros exteriores, esta debe estar diseñada y ser consistente con el apéndice A del estándar ASHRAE 90.1 de 2016. | O51: Notas adicionales
B52: =+'Información General'!$E$20 -> NOMBRE PROYECTO
B53: =+'Información General'!$E$20 -> NOMBRE PROYECTO
B59: Muros exteriores por debajo del nivel 0
B61: Información General | F61: Línea Base | H61: Propuesto
B62: Edificio | C62: Construcción Nueva o Existente | D62: Categoria de acondicionamiento de espacio | F62: Descripción | G62: Valor U - Ensamblaje | H62: Descripción | I62: Valor U - Ensamblaje
B63: Notas Importantes | F63: Describir la construcción de los muros exteriores de la línea base ( por ejemplo: R-13 (R-2.3),marco de acero) Los valores deben ser consistentes con la tabla 5.5 del estandándar ASHRAE 90.1 de 2016 | H63: Describir la construcción de los muros exteriores, esta debe estar diseñada y ser consistente con el apéndice A del estándar ASHRAE 90.1 de 2016. | O63: Notas adicionales
B64: =+'Información General'!$E$20 -> NOMBRE PROYECTO
B65: =+'Información General'!$E$20 -> NOMBRE PROYECTO
B71: Piso Expuesto
B73: Información General | F73: Línea Base | H73: Propuesto
B74: Edificio | C74: Construcción Nueva o Existente | D74: Categoria de acondicionamiento de espacio | F74: Descripción | G74: Valor U - Ensamblaje | H74: Descripción | I74: Valor U - Ensamblaje
B75: Notas Importantes | F75: Describir la construcción del piso expuesto de la línea base ( por ejemplo: R-13 (R-2.3),placa de concreto con refuerzo de acero) Los valores deben ser consistentes con la tabla 5.5 del estandándar ASHRAE 90.1 de 2016 | H75: Describir la construcción del piso expuesto, esta debe estar diseñada y ser consistente con el apéndice A del estándar ASHRAE 90.1 de 2016. | O75: Notas adicionales
B76: =+'Información General'!$E$20 -> NOMBRE PROYECTO
B77: =+'Información General'!$E$20 -> NOMBRE PROYECTO
B83: Entrepiso
B85: Información General | F85: Línea Base | H85: Propuesto
...

Sheet Fachada traslúcida y sombras
D4: Calculador de ahorro de energía
D5: Versión 3.0 2023 | H5: E1. Uso de la energía
D6: Consejo Colombiano de Construccion Sostenible - CCCS
D7: Todos los derechos reservados | H7: Objetivo: Aportar a la mitigación del cambio climático y optimizar los costos de operación mediante la reducción de la demanda de energía, teniendo en cuenta el confort del usuario final.
D8: Fecha actualización: 2 de diciembre de 2025
B13: VENTANERÍA Y DISPOSITIVOS DE SOMBRA
B16: Concentración y Zonificación | O16: Notas adicionales
B19: Dispositivos de sombra o persianas se han modelado o no modelado, igual que en el modelo propuesto
B21: Cada sombra debido al terreno o estructuras adyacentes se ha modelado o no modelado, igual que en el modelo propuesto
B23: La línea base se encuentra modelada con la misma forma y orientación que le modelo propuesto
B25: Los bloque térmicos fueron modelados de acuerdo con la tabla G3.1 #7 y la tabla G3.1#8, y se modelaron igual para la línea base y el modelo propuesto
B30: Nombre del Proyecto | D30: =+'Información General'!$E$20 -> NOMBRE PROYECTO
B31: Parámetro de entrada en el modelo | F31: Línea base | I31: Propuesto | O31: Notas adicionales
B32: Notas Importantes | F32: Se incluye toda la ventanería vetical del proyecto de acuerdo con la tabla G3.1#5( c) Los dispotivios de sombra manuales se deben modelar de acuerdo con G3.1#5( c) El área total de ventanería es máximo 40% y se distribuye en todas las fachadas de la misma manera que el edificio propuesto | I32: Los dispotivios de sombra manuales se deben modelar de acuerdo con G3.1#5( c) Se modelan todos los dispositivos de sombra permanente
B33: Muros por encima del nivel 0 y área de ventana por orientación | D33: Orientación | F33: =+IF('Información General'!E24="IP"," Área de muro ( pies cuadrados)","Área de muro (metros cuadrados)") -> Área de muro (metros cuadrados) | G33: Área de ventana | I33: =+IF('Información General'!E24="IP"," Área de muro ( pies cuadrados)","Área de muro (metros cuadrados)") -> Área de muro (metros cuadrados) | J33: Área de ventana
G34: =+IF('Información General'!$E$24="IP"," pies cuadrados","metros cuadrados") -> metros cuadrados | H34: (%) | J34: =+IF('Información General'!E24="IP"," pies cuadrados","metros cuadrados") -> metros cuadrados | K34: (%)
D35: Norte | H35: =+IFERROR(G35/F35,"") | K35: =+IFERROR(J35/I35,"")
D36: Este | H36: =+IFERROR(G36/F36,"") | K36: =+IFERROR(J36/I36,"")
D37: Sur | H37: =+IFERROR(G37/F37,"") | K37: =+IFERROR(J37/I37,"")
D38: Oeste | H38: =+IFERROR(G38/F38,"") | K38: =+IFERROR(J38/I38,"")
D39: Total | F39: =+SUM(F35:F38) -> 0 | G39: =+SUM(G35:G38) -> 0 | H39: =+IFERROR(G39/F39,0) -> 0 | I39: =+SUM(I35:I38) -> 0 | J39: =+SUM(J35:J38) -> 0 | K39: =+IFERROR(J39/I39,0) -> 0
B40: Área de cubierta y Tragaluz | F40: =+IF('Información General'!E24="IP"," Área de cubierta ( pies cuadrados)","Área de muro (metros cuadrados)") -> Área de muro (metros cuadrados) | G40: Área de tragaluz | I40: =+IF('Información General'!H24="IP"," Área de cubierta ( pies cuadrados)","Área de muro (metros cuadrados)") -> Área de muro (metros cuadrados) | J40: Área de tragaluz
G41: =+IF('Información General'!$E$24="IP"," pies cuadrados","metros cuadrados") -> metros cuadrados | H41: (%) | J41: =+IF('Información General'!$E$24="IP"," pies cuadrados","metros cuadrados") -> metros cuadrados | K41: (%)
H42: =+IFERROR(G42/F42,0) -> 0 | K42: =+IFERROR(J42/I42,0) -> 0
B43: Número de bloques térmicos | F43: Condicionados | G43: Semi-calentados | H43: No acondicionado | I43: Condicionados | J43: Semi-calentados | K43: No acondicionado
B49: Ventaneria
B51: Información General | F51: Línea Base | I51: Propuesto
B52: Edificio | C52: Construcción Nueva o Existente | D52: Categoria de acondicionamiento de espacio | F52: Descripción | G52: Valor U - Ensamblaje | H52: SHGC | I52: Descripción | J52: Valor U - Ensamblaje | K52: SHGC | L52: VLT
B53: Notas Importantes | F53: El valor U y el SHGC deben estar de acuerdo con lo requerido por la tabla 5.5 y la tabla G3.1#5 ( c) | I53: La ventanería del proyecto propuesto debe estar de acuerdo con el diseño, se debe tener en cuenta el impacto de los marcos, es necesario el valor U de toda la composición. Utilice como referencia la Tabla A8.2 Ingresar el Valor del SHGC Ingresar el valor del coeficiente de transmisión de luz visible | O53: Notas adicionales
B54: =+'Información General'!$E$20 -> NOMBRE PROYECTO
B55: =+'Información General'!$E$20 -> NOMBRE PROYECTO
B59: Tragaluz
B61: Información General | F61: Línea Base | I61: Propuesto
B62: Edificio | C62: Construcción Nueva o Existente | D62: Categoria de acondicionamiento de espacio | F62: Descripción | G62: Valor U - Ensamblaje | H62: SHGC | I62: Descripción | J62: Valor U - Ensamblaje | K62: SHGC | L62: VLT
B63: Notas Importantes | F63: El valor U y el SHGC deben estar de acuerdo con lo requerido por la tabla 5.5 y la tabla G3.1#5 ( c) | I63: El tragaluz del proyecto propuesto debe estar de acuerdo con el diseño, se debe tener en cuenta el impacto de los marcos, es necesario el valor U de toda la composición. Utilice como referencia la Tabla A8.2 Ingresar el Valor del SHGC Ingresar el valor del coeficiente de transmisión de luz visible | O63: Notas adicionales
B64: =+'Información General'!$E$20 -> NOMBRE PROYECTO
B65: =+'Información General'!$E$20 -> NOMBRE PROYECTO
B69: Notas adicionales

Sheet Iluminación
D4: Calculador de ahorro de energía
D5: Versión 3.0 2023 | H5: E1. Uso de la energía
D6: Consejo Colombiano de Construccion Sostenible - CCCS
D7: Todos los derechos reservados | H7: Objetivo: Aportar a la mitigación del cambio climático y optimizar los costos de operación mediante la reducción de la demanda de energía, teniendo en cuenta el confort del usuario final.
D8: Fecha actualización: 2 de diciembre de 2025
B13: ILUMINACIÓN
B16: Iluminación interior
B18: Requerimientos de iluminación interior | T18: Notas adicionales
B20: Todos los horarios de operación de la iluminación se han modelado igual en la línea base y el modelo propuesto y reflejan los horarios de operación anticipados del proyecto
B22: La densidad de potencia de iluminación incluye todos los componentes del sistema de iluminación que se pueden observar en planos
B24: En la línea base se estan modelando todos los controles automáticos requeridos por la sección 9.4 del ASHRAE 90.1
B26: Los controles de luz día se estan modelando en el la línea base para los espacios encerrados superiores a 23 metros cuadrados de acuerdo con las secciónes 9.4.1, 9.4.1.5 y 9.4.1.3 respectivamente
B29: Procedimiento de categorización
B31: Seleccione el procedimiento utilizado para determinar la densidad de potencia de iluminación (LPD) en el modelo propuesto y en la línea base
B35: Información General | F35: Línea Base | H35: Propuesto
B36: Nombre del Proyecto | C36: Tipo de área de acuerdo con la Tabla 9.5.1 | D36: =+IF('Información General'!E24="IP"," Área total ( pies cuadrados)","Área de total (metros cuadrados)") -> Área de total (metros cuadrados) | F36: =+IF('Información General'!E24="IP"," LPDs Modeladas ( W/ pies cuadrados)","LPDs Modeladas ( W/ metros cuadrados)") -> LPDs Modeladas ( W/ metros cuadrados) | H36: =+IF('Información General'!E24="IP"," LPDs Modeladas ( W/ pies cuadrados)","LPDs Modeladas ( W/ metros cuadrados)") -> LPDs Modeladas ( W/ metros cuadrados) | J36: Controles
B37: Notas importantes | F37: Ingresar lo valores de referencias (excluyendo cualquier iluminación de procesos) para este tipo de proyecto de acuerdo con la Tabla 9.5.1 | H37: Ingresar la potencia de iluminación diseñada(excluyendo cualquer iluminación de procesos) | J37: Por favor mencione los controles de iluminación utilizados en cada tipo de área
B38: =+'Información General'!$E$20 -> NOMBRE PROYECTO | C38: aa
B39: =+'Información General'!$E$20 -> NOMBRE PROYECTO | C39: bb
B40: =+'Información General'!$E$20 -> NOMBRE PROYECTO | C40: cc
B41: =+'Información General'!$E$20 -> NOMBRE PROYECTO | C41: dd
B42: =+'Información General'!$E$20 -> NOMBRE PROYECTO
B43: Total | D43: =+SUM(D37:D42) -> 0 | F43: =+IFERROR(D38*F38+D39*F39+D40*F40+D41*F41+D42*F42/(SUM(D38:D42)),0) -> 0
B48: Notas adicionales
B53: Iluminación exterior
B55: Zona de iluminación | C55: Descripcíón de la zona | M55: Potencia base permitida (W)
B56: Zona 4 | C56: =+VLOOKUP(B56,LISTAS!P2:R6,2,TRUE) -> Áreas con alta actividad comerciales, áreas metropolitanas designadas por la jurisdicción local | M56: =+VLOOKUP(B56,LISTAS!P2:R6,3,TRUE) -> 1300
B60: Información General | I60: Línea base | M60: Propuesto
B61: Aplicación de iluminación exterior de acuerdo con la tabla 9.4.5 | F61: Información de entrada | H61: Valor | I61: LPD Permitida | J61: Potencia de iluminación Permitida (W) | L61: Potencia de diseño (W)
B62: Notas importantes | C62: Solamente ingresar el área o la longitud de la superficie | L62: La potencia de iluminación se debe reportar de acuerdo al propuesto
B64: Fachadas | F64: Área | I64: =+VLOOKUP(B56,LISTAS!P2:S6,4,TRUE) -> 2.152 | J64: =+IFERROR(I64*H64,0) -> 0 | L64: =+J64*0.65 -> 0
B65: Zona de parqueo y vías | F65: Área | I65: =+VLOOKUP(B56,LISTAS!P2:T6,5,TRUE) -> 1.3988 | J65: =+IFERROR(I65*H65,0) -> 0 | L65: =+J65*0.65 -> 0
B66: Andenes de menos de 3m de ancho | F66: Metros lineales | I66: =+VLOOKUP(B56,LISTAS!P2:U6,6,TRUE) -> 3.2808399 | J66: =+IFERROR(I66*H66,0) -> 0 | L66: =+J66*0.65 -> 0
B67: Andenes de mas de 3m de ancho | F67: Área | I67: =+VLOOKUP(B56,LISTAS!P2:V6,7,TRUE) -> 2.152 | J67: =+IFERROR(I67*H67,0) -> 0 | L67: =+J67*0.65 -> 0
B68: Escaleras | F68: Área | I68: =+VLOOKUP(B56,LISTAS!P1:W6,8,TRUE) -> 10.76 | J68: =+IFERROR(I68*H68,0) -> 0 | L68: =+J68*0.65 -> 0
B69: Paisajismo | F69: Área | I69: =+VLOOKUP(B56,LISTAS!P1:X6,9,TRUE) -> 0.538 | J69: =+IFERROR(I69*H69,0) -> 0 | L69: =+J69*0.65 -> 0
B70: Entradas Principales | F70: Metros lineales | I70: =+VLOOKUP(B56,LISTAS!P1:Y6,10,TRUE) -> 98.425197 | J70: =+IFERROR(I70*H70,0) -> 0 | L70: =+J70*0.65 -> 0
B71: Otras Puertas | F71: Metros lineales | I71: =+VLOOKUP(B56,LISTAS!P1:Z6,11,TRUE) -> 65.616798 | J71: =+IFERROR(I71*H71,0) -> 0 | L71: =+J71*0.65 -> 0
B72: Canopies de entrada | F72: Área | I72: =+VLOOKUP(B56,LISTAS!P1:AA6,12,TRUE) -> 4.304 | J72: =+IFERROR(I72*H72,0) -> 0 | L72: =+J72*0.65 -> 0
B76: Notas adicionales

Sheet Cargas de Proceso
D4: Calculador de ahorro de energía
D5: Versión 3.0 2023 | H5: E1. Uso de la energía
D6: Consejo Colombiano de Construccion Sostenible - CCCS
D7: Todos los derechos reservados | H7: Objetivo: Aportar a la mitigación del cambio climático y optimizar los costos de operación mediante la reducción de la demanda de energía, teniendo en cuenta el confort del usuario final.
D8: Fecha actualización: 2 de diciembre de 2025
B13: CARGAS DE PROCESO
B16: Requerimientos de cargas de proceso | Q16: Notas adicionales
B18: Todos los equipos receptáculos y otros procesos se ven reflejados en el modelo energético
B21: Procedimiento de categorización | Q21: Notas adicionales
B23: Seleccione el procedimiento utilizado para determinar la densidad de potencia de tomas en el modelo propuesto y en la línea base
B26: Carga promedio de equipos del proyecto
B28: =+'Información General'!E20 -> NOMBRE PROYECTO | C28: Tipo de uso (Ejemplo Residencial) | E28: =+IF('Información General'!E24="IP"," Área total (pies cuadrados)","Área total (metros cuadrados)") -> Área total (metros cuadrados) | F28: =+IF('Información General'!E24="IP"," Densidad de potencia de equipos (W/pies cuadrados)","Densidad de potencia de equipos (W/metros cuadrados)") -> Densidad de potencia de equipos (W/metros cuadrados) | G28: Equipos Inlcuidos | H28: ¿La linea base se modeló igual?
B29: =+B28 -> NOMBRE PROYECTO
B30: =+B29 -> NOMBRE PROYECTO
B31: =+B30 -> NOMBRE PROYECTO
B32: =+B31 -> NOMBRE PROYECTO
B33: =+B32 -> NOMBRE PROYECTO
B34: Totales | E34: =+IFERROR(SUM(E29:E33),0) -> 0 | F34: =+IFERROR(SUM(F29:F33),0) -> 0
B35: Total de potencia modelada (kW) | H35: =IFERROR(+F34*E34,0) -> 0
B39: Notas adicionales

Sheet Agua Caliente
D4: Calculador de ahorro de energía
D5: Versión 3.0 2023 | H5: E1. Uso de la energía
D6: Consejo Colombiano de Construccion Sostenible - CCCS
D7: Todos los derechos reservados | H7: Objetivo: Aportar a la mitigación del cambio climático y optimizar los costos de operación mediante la reducción de la demanda de energía, teniendo en cuenta el confort del usuario final.
D8: Fecha actualización: 2 de diciembre de 2025
B13: AGUA CALIENTE
B17: Calentamiento de agua
B19: Parámetros de entrada al modelo | G19: Línea base | K19: Propuesto
B20: Notas importantes | D20: Complete la información que aplique en su proyecto | G20: Todos los parámetro de entrada de la línea base deben estar acordes con el estándar ASHRAE 90.1 de 2016 | K20: Ingrese los valores que apliquen de acuerdo a lo diseñado en el sistema de agua caliente
B23: =+'Información General'!E20 -> NOMBRE PROYECTO | G23: =+B23 -> NOMBRE PROYECTO
B24: Tipo de sistema de calentamiento de agua
B25: Potencia de entrada
B26: Eficiencia del sistema
B27: Número de bombas
B28: Potencia de las bombas
B29: Tipo de bomba
B32: Caudal de agua caliente
B34: Información General | G34: Línea base | K34: Propuesto
B35: =+B23 -> NOMBRE PROYECTO | C35: Tipo de griferia | D35: Porcentaje de agua caliente | G35: =+IF('Información General'!E24="IP"," Caudal (gpm)","Caudal (L/s)") -> Caudal (L/s) | H35: =+IF('Información General'!E24="IP"," Consumo total (galones/año)","Caudal (Litros/año)") -> Caudal (Litros/año) | I35: =+IF('Información General'!E24="IP"," Consumo total agua caliente (galones/año)","Consumo total caliente (Litros/año)") -> Consumo total caliente (Litros/año) | K35: =+IF('Información General'!E24="IP"," Caudal (gpm)","Caudal (L/s)") -> Caudal (L/s) | L35: =+IF('Información General'!E24="IP"," Consumo total (galones/año)","Caudal (Litros/año)") -> Caudal (Litros/año) | M35: =+IF('Información General'!E24="IP"," Consumo total agua caliente (galones/año)","Consumo total caliente (Litros/año)") -> Consumo total caliente (Litros/año)
B36: =+B35 -> NOMBRE PROYECTO | I36: =+IFERROR(D36*H36,0) -> 0 | M36: =+IFERROR(D36*L36,0) -> 0
B37: =+B36 -> NOMBRE PROYECTO | I37: =+IFERROR(D37*H37,0) -> 0 | M37: =+IFERROR(D37*L37,0) -> 0
B38: =+B37 -> NOMBRE PROYECTO | I38: =+IFERROR(D38*H38,0) -> 0 | M38: =+IFERROR(D38*L38,0) -> 0
B39: =+B38 -> NOMBRE PROYECTO | I39: =+IFERROR(D39*H39,0) -> 0 | M39: =+IFERROR(D39*L39,0) -> 0
B40: Totales | I40: =+SUM(I36:I39) -> 0 | M40: =+SUM(M36:M39) -> 0
B48: Notas adicionales

Sheet HVAC
D4: Calculador de ahorro de energía
D5: Versión 3.0 2023 | H5: E1. Uso de la energía
D6: Consejo Colombiano de Construccion Sostenible - CCCS
D7: Todos los derechos reservados | H7: Objetivo: Aportar a la mitigación del cambio climático y optimizar los costos de operación mediante la reducción de la demanda de energía, teniendo en cuenta el confort del usuario final.
D8: Fecha actualización: 2 de diciembre de 2025
B13: VENTILACIÓN Y AIRE ACONDICIONADO
B17: Sistemas de ventilación y aire acondicionado proyecto propuesto
B19: =+'Información General'!E20 -> NOMBRE PROYECTO | C19: Descripción del sistema | F19: Espacios modelados
B20: Notas importanes | C20: En las siguientes celdas por favor describa el sistema de aire acondicionado o ventilación mecánica con el que cuenta el proyecto, la ventilación natural tambien aplica | F20: Agregue en las siguientes celdas los espacios que se modelaron con su respectivo sistema de aire acondicionado o ventilación mecánica
B21: =+B19 -> NOMBRE PROYECTO | J21: Notas adicionales
B22: =+B19 -> NOMBRE PROYECTO
B23: =+B19 -> NOMBRE PROYECTO
B24: =+B19 -> NOMBRE PROYECTO
B29: Sistemas de ventilación y aire acondicionado línea base
B31: =+'Información General'!E20 -> NOMBRE PROYECTO | C31: Descripción del sistema | F31: Espacios modelados
B32: Notas importanes | C32: Seleccione el sistema de línea base utilizado para realizar la modelación | F32: Agregue en las siguientes celdas los espacios que se modelaron con su respectivo sistema de aire acondicionado o ventilación mecánica
B33: =+B31 -> NOMBRE PROYECTO | J33: Notas adicionales
B34: =+B31 -> NOMBRE PROYECTO
B35: =+B31 -> NOMBRE PROYECTO
B36: =+B31 -> NOMBRE PROYECTO
B39: Requerimientos del lado de aire de la línea base
B41: Todas las zona de la línea base se modelaron de acuerdo con la tabla G3.1.1
B43: Las eficiencias de la línea base se encuentran modeladas de acuerdo con el requerimiento del estándar ASHRAE 90.1
B45: Todas las capacidades de enfriamiento de la línea base son autodimensionadas con un 15% extra de capacidad
B47: Todas las capacidades de calentamiento de la línea base son autodimensionadas con un 25% extra de capacidad
B49: El sistema de la línea base cumple con todos los mandatorios de la sección 6.4 y la tabla G3.1.1 del estándar ASHRAE 90.1
B51: Notas adicionales

Sheet Parámetros HVAC
D4: Calculador de ahorro de energía
D5: Versión 3.0 2023 | H5: E1. Uso de la energía
D6: Consejo Colombiano de Construccion Sostenible - CCCS
D7: Todos los derechos reservados | H7: Objetivo: Aportar a la mitigación del cambio climático y optimizar los costos de operación mediante la reducción de la demanda de energía, teniendo en cuenta el confort del usuario final.
D8: Fecha actualización: 2 de diciembre de 2025
B13: VENTILACIÓN Y AIRE ACONDICIONADO
B16: Parámetros de entrada en el modelo | D16: Notas importantes | F16: Unidades | H16: Totales | K16: Línea base | L16: Línea base | M16: Línea base | N16: Línea base | O16: Línea base | P16: Línea base | Q16: Línea base | R16: Línea base | T16: Propuesto | U16: Propuesto | V16: Propuesto | W16: Propuesto | X16: Propuesto | Y16: Propuesto | Z16: Propuesto | AA16: Propuesto | AB16: Propuesto | AC16: Propuesto
H17: Línea Base | I17: Propuesto | K17: =+'Información General'!$E$20 -> NOMBRE PROYECTO | L17: =+'Información General'!$E$20 -> NOMBRE PROYECTO | M17: =+'Información General'!$E$20 -> NOMBRE PROYECTO | N17: =+'Información General'!$E$20 -> NOMBRE PROYECTO | O17: =+'Información General'!$E$20 -> NOMBRE PROYECTO | P17: =+'Información General'!$E$20 -> NOMBRE PROYECTO | Q17: =+'Información General'!$E$20 -> NOMBRE PROYECTO | R17: =+'Información General'!$E$20 -> NOMBRE PROYECTO | T17: =+'Información General'!$E$20 -> NOMBRE PROYECTO | U17: =+'Información General'!$E$20 -> NOMBRE PROYECTO | V17: =+'Información General'!$E$20 -> NOMBRE PROYECTO | W17: =+'Información General'!$E$20 -> NOMBRE PROYECTO | X17: =+'Información General'!$E$20 -> NOMBRE PROYECTO | Y17: =+'Información General'!$E$20 -> NOMBRE PROYECTO | Z17: =+'Información General'!$E$20 -> NOMBRE PROYECTO | AA17: =+'Información General'!$E$20 -> NOMBRE PROYECTO | ... AC17: =+'Información General'!$E$20 -> NOMBRE PROYECTO
K18: Tipo de sistema | L18: Tipo de sistema | M18: Tipo de sistema | N18: Tipo de sistema | O18: Tipo de sistema | P18: Tipo de sistema | Q18: Tipo de sistema | R18: Tipo de sistema | T18: Tipo de sistema | U18: Tipo de sistema | V18: Tipo de sistema | W18: Tipo de sistema | X18: Tipo de sistema | Y18: Tipo de sistema | Z18: Tipo de sistema | AA18: Tipo de sistema | AB18: Tipo de sistema | AC18: Tipo de sistema
K20: Designación del sistema | L20: Designación del sistema | M20: Designación del sistema | N20: Designación del sistema | O20: Designación del sistema | P20: Designación del sistema | Q20: Designación del sistema | R20: Designación del sistema | T20: Designación del sistema | U20: Designación del sistema | V20: Designación del sistema | W20: Designación del sistema | X20: Designación del sistema | Y20: Designación del sistema | Z20: Designación del sistema | AA20: Designación del sistema | AB20: Designación del sistema | AC20: Designación del sistema
K22: Número de sistemas similares | L22: Número de sistemas similares | M22: Número de sistemas similares | N22: Número de sistemas similares | O22: Número de sistemas similares | P22: Número de sistemas similares | Q22: Número de sistemas similares | R22: Número de sistemas similares | T22: Número de sistemas similares | U22: Número de sistemas similares | V22: Número de sistemas similares | W22: Número de sistemas similares | X22: Número de sistemas similares | Y22: Número de sistemas similares | Z22: Número de sistemas similares | AA22: Número de sistemas similares | AB22: Número de sistemas similares | AC22: Número de sistemas similares
B24: Capacidad total de enfriamiento | D24: Ingrese la capacidad de enfriamiento del equipo asignado a cada bloque térmico | F24: kW | H24: =+SUM(K24:R24) -> 0 | I24: =+SUM(T24:AC24) -> 0
B25: Eficiencia | D25: Ingrese la eficiencia del equipo de enfriamiento asociado al bloque térmico | F25: EER
B26: Capacidad de calentamiento | D26: Ingrese la capacidad de calentamiento del equipo asignado a cada bloque térmico | F26: kW | H26: =+SUM(K26:R26) -> 0 | I26: =+SUM(T26:AC26) -> 0
B27: Caudal de aire de suministro | D27: Ingrese el caudal total de aire del ventilador de suministro | F27: CFM | H27: =+SUM(K27:R27) -> 0 | I27: =+SUM(T27:AC27) -> 0
B28: Caudal de aire exterior | D28: Ingrese el caudal total de aire exterior del ventilador de suministro
B29: Potencia ventilación | C29: Potencia ventilador de suministro | D29: Ingrese la potencia del ventilador de suministro | H29: =+SUM(K29:R29) -> 0 | I29: =+SUM(T29:AC29) -> 0
C30: Potencia Ventilador de recirculación | D30: Ingrese la potencia del ventilador de recirculación | H30: =+SUM(K30:R30) -> 0 | I30: =+SUM(T30:AC30) -> 0
C31: Potencia Ventilador de extracción | D31: Ingrese la potencia del ventilador de extracción | H31: =+SUM(K31:R31) -> 0 | I31: =+SUM(T31:AC31) -> 0

Sheet Resultados Modelación
D4: Calculador de ahorro de energía
D5: Versión 3.0 2023 | H5: E1. Uso de la energía
D6: Consejo Colombiano de Construccion Sostenible - CCCS
D7: Todos los derechos reservados | H7: Objetivo: Aportar a la mitigación del cambio climático y optimizar los costos de operación mediante la reducción de la demanda de energía, teniendo en cuenta el confort del usuario final.
D8: Fecha actualización: 2 de diciembre de 2025
B13: RESULTADOS MODELACIÓN ENERGÉTICA
B18: Resultados línea base
B20: Uso final | D20: Tipo de energía | E20: Unidades de energía anual y demanda pico | F20: Rotación 0° Línea base | G20: Rotación 90° Línea base | H20: Rotación 180° Línea base | I20: Rotación 270° Línea base | J20: Promedio de línea base (4 rotaciones)
B21: Iluminación Interior | D21: Electricidad | E21: Consumo (kWh) | J21: =IFERROR(+AVERAGE(F21:I21),"")
E22: Demanda (kW) | J22: =IFERROR(+AVERAGE(F22:I22),"")
B23: Iluminación Exterior | D23: Electricidad | E23: Consumo (kWh) | J23: =IFERROR(+AVERAGE(F23:I23),"")
E24: Demanda (kW) | J24: =IFERROR(+AVERAGE(F24:I24),"")
B25: Calentamiento de espacios | D25: Electricidad | E25: Consumo (kWh) | J25: =IFERROR(+AVERAGE(F25:I25),"")
E26: Demanda (kW) | J26: =IFERROR(+AVERAGE(F26:I26),"")
B27: Enfriamiento de espacios | D27: Electricidad | E27: Consumo (kWh) | J27: =IFERROR(+AVERAGE(F27:I27),"")
E28: Demanda (kW) | J28: =IFERROR(+AVERAGE(F28:I28),"")
B29: Bombas | D29: Electricidad | E29: Consumo (kWh) | J29: =IFERROR(+AVERAGE(F29:I29),"")
E30: Demanda (kW) | J30: =IFERROR(+AVERAGE(F30:I30),"")
B31: Rechazo de calor | D31: Electricidad | E31: Consumo (kWh) | J31: =IFERROR(+AVERAGE(F31:I31),"")
E32: Demanda (kW) | J32: =IFERROR(+AVERAGE(F32:I32),"")
B33: Ventiladores | D33: Electricidad | E33: Consumo (kWh) | J33: =IFERROR(+AVERAGE(F33:I33),"")
E34: Demanda (kW) | J34: =IFERROR(+AVERAGE(F34:I34),"")
B35: Ventiladores Parqueadero | D35: Electricidad | E35: Consumo (kWh) | J35: =IFERROR(+AVERAGE(F35:I35),"")
E36: Demanda (kW) | J36: =IFERROR(+AVERAGE(F36:I36),"")
B37: Agua Caliente | D37: Gas | E37: Consumo (kWh) | J37: =IFERROR(+AVERAGE(F37:I37),"")
E38: Demanda (kW) | J38: =IFERROR(+AVERAGE(F38:I38),"")
B39: Tomas y Equipos Receptáculos | D39: Electricidad | E39: Consumo (kWh) | J39: =IFERROR(+AVERAGE(F39:I39),"")
E40: Demanda (kW) | J40: =IFERROR(+AVERAGE(F40:I40),"")
B41: Cocina | D41: Gas | E41: Consumo (kWh) | J41: =IFERROR(+AVERAGE(F41:I41),"")
E42: Demanda (kW) | J42: =IFERROR(+AVERAGE(F42:I42),"")
B43: Ascensores | D43: Electricidad | E43: Consumo (kWh) | J43: =IFERROR(+AVERAGE(F43:I43),"")
E44: Demanda (kW) | J44: =IFERROR(+AVERAGE(F44:I44),"")
B49: Resumen del consumo Linea Base y Propuesto
O50: Consumos
B51: Uso final | D51: Tipo de energía | E51: Tipo de Consumo | F51: Unidades de energía anual y demanda pico | G51: Promedio Línea Base | H51: Propuesto | I51: Ahorros en demanda y energía por uso | J51: Porcentaje del consumo total | O51: Fuente | P51: Línea Base | Q51: Propuesto
B52: Iluminación Interior | D52: Electricidad | F52: Consumo (kWh) | G52: =J21 | I52: =+IFERROR(1-(H52/G52),"") | J52: =IFERROR(+H52/(SUM($H$52,$H$54,$H$56,$H$58,$H$60,$H$62,$H$64,$H$66,$H$68,$H$70,$H$72,$H$74)),"") | N52: =+IF(E52=0,"Regulado",E52) -> Regulado | O52: =+D52 -> Electricidad | P52: =+G52 | Q52: =+H52 -> 0
F53: Demanda (kW) | G53: =J22 | I53: =+IFERROR(1-(H53/G53),"")
B54: Iluminación Exterior | D54: Electricidad | F54: Consumo (kWh) | G54: =J23 | I54: =+IFERROR(1-(H54/G54),"") | J54: =IFERROR(+H54/(SUM($H$52,$H$54,$H$56,$H$58,$H$60,$H$62,$H$64,$H$66,$H$68,$H$70,$H$72,$H$74)),"") | N54: =+IF(E54=0,"Regulado",E54) -> Regulado | O54: =+D54 -> Electricidad | P54: =+G54 | Q54: =+H54 -> 0
F55: Demanda (kW) | G55: =J24 | I55: =+IFERROR(1-(H55/G55),"")
B56: Calentamiento de espacios | D56: Gas | F56: Consumo (kWh) | G56: =J25 | I56: =+IFERROR(1-(H56/G56),"") | J56: =IFERROR(+H56/(SUM($H$52,$H$54,$H$56,$H$58,$H$60,$H$62,$H$64,$H$66,$H$68,$H$70,$H$72,$H$74)),"") | N56: =+IF(E56=0,"Regulado",E56) -> Regulado | O56: =+D56 -> Gas | P56: =+G56 | Q56: =+H56 -> 0
...

Sheet Resumen
D4: Calculador de ahorro de energía
D5: Versión 3.0 2023 | H5: E1. Uso eficiente de la energía
D6: Consejo Colombiano de Construccion Sostenible - CCCS
D7: Todos los derechos reservados | H7: Objetivo: Garantizar un ahorro de energía mínimo en los desarrollos inmobiliarios de vivienda logrando una reducción en el consumo de recursos para la generación de energía
D8: Fecha actualización: 2 de diciembre de 2025
B17: Resumen
B19: Consumo Energético - EUI (kWh/m2 - año) | E19: =+IFERROR('Resultados Modelación'!G89+'Resultados Modelación'!H89,"")
B20: Gases Efecto Invernadero (KgCO2/m2 -año) | E20: =+IFERROR('Resultados Modelación'!I89/'Información General'!$E$34,"")
B23: Consumo Electricidad (kWh - año) | E23: =+IFERROR('Resultados Modelación'!$G$89*'Información General'!$E$34,"")
B24: Consumo Gas Natural (kWh - año) | E24: =+IFERROR('Resultados Modelación'!$H$89*'Información General'!$E$34,"")
B25: Consumo Energético Total (kWh - año) | E25: =+IFERROR($E$24+$E$23,"")
B26: Gases de Efecto Invernadero (KgCO2 - año) | E26: =+IFERROR('Resultados Modelación'!I89,"")
B29: Total de ahorro energético | E29: =+'Resultados Modelación'!G102 | F29: - Lineamiento Obligatorio
B31: Total de ahorro en GEI | E31: =+'Resultados Modelación'!G106 | F31: - Lineamiento Opcional

Sheet LISTAS
A1: Versión | B1: Medidas | C1: Condición | D1: Documentos | E1: Programa de simulación | F1: Estándar | G1: Zona Climática | H1: Edificios Múltiples | I1: Construcción | J1: Acondicionamiento | K1: Reflectancia / Emitancia | L1: Bloques térmicos | M1: Bloques térmicos2 | N1: Ventaneria | O1: Iluminación | P1: Zona | Q1: Descripción Zona | R1: Potencia permitida | S1: Fachadas | T1: Zona de parque0 | U1: Andenes menos 3 m | V1: Andenes mas de 3m | W1: Escaleras | X1: Paisajismo | Y1: Entradas Principales | Z1: Otras puertas | AA1: Canopies de entrada | AB1: Griferias | AC1: Sistema HVAC | AD1: Columna1 | AE1: Caudal | AF1: Columna2 | AG1: eficiencia | AH1: Tipo de energía | AI1: Tipo de Consumo
A2: 1.1 | B2: IP (Sistema Imperial) | C2: SI | D2: 90% Diseño | E2: Energy Plus | F2: ASHRAE 90.1 -2010 | G2: Frio | H2: Se modeló cada edificio por separado | I2: Nueva | J2: Residencial | K2: Refletancia 0.55/ Emitancia 0.75 | L2: 1 a 5 | M2: Igual a la línea base | N2: Marco no metálico (todos) | O2: Building area Method | P2: Zona 0 | Q2: Áreas que no sean previamente desarrolladas cerca a parques nacionales, bosques, zona rurales | R2: 0 | S2: 0 | T2: 0 | U2: 0 | V2: 0 | W2: 0 | X2: 0 | Y2: 0 | Z2: 0 | AA2: 0 | AB2: Lavaplatos | AC2: Sistema 1 | AD2: kW | AE2: CFM | AF2: kW | AG2: EER | AH2: Gas | AI2: Regulado
A3: 2.1 | B3: SI (Sistema Internacional) | C3: NO | D3: 100% Diseño | E3: Energy Quest | F3: ASHRAE 90.2 -2016 | G3: Templado | H3: Todos los edificios se modelaron combinados en un modelo | I3: Existente | J3: No residencial | K3: Refletancia 0.3/ Emitancia 0.9 | L3: 6 a 10 | M3: 1 a 5 | N3: Marco metálico (muro cortina) | O3: Space by Space Method | P3: Zona 1 | Q3: Áreas desarrolladas cerca a aprques nacionales o bosques o en zonas rurales | R3: 500 | S3: 0 | T3: =+IF('Información General'!E24="IP",0.04,0.04*10.76) -> 0.4304 | U3: =+IF('Información General'!$E$24="IP",0.7,0.7*(1/0.3048)) -> 2.2965879 | V3: =+IF('Información General'!$E$24="IP",0.14,0.14*10.76) -> 1.5064 | W3: =+IF('Información General'!$E$24="IP",0.75,0.75*10.76) -> 8.07 | X3: =+IF('Información General'!$E$24="IP",0.04,0.04*10.76) -> 0.4304 | Y3: =+IF('Información General'!$E$24="IP",20,20*(1/0.3048)) -> 65.616798 | Z3: =+IF('Información General'!$E$24="IP",20,20*(1/0.3048)) -> 65.616798 | AA3: =+IF('Información General'!$E$24="IP",0.25,0.25*10.76) -> 2.69 | AB3: Lavamanos | AC3: Sistema 2 | AD3: TR | AE3: L/s | AF3: HP | AH3: Electricidad | AI3: No Regulado
C4: N/A | D4: Planos As-Built | E4: eQuest | G4: Calido Humedo | H4: Se modelaron edificios particulares en múltiples modelos | J4: No acondicionado | L4: 11 a 15 | M4: 6 a 10 | N4: Marco metálico (puerta de entrada) | P4: Zona 2 | Q4: Áreas predominantemente que consistan de zonas residenciales, barrios industriales, iluminación industrial con uso restringido en la noche. | R4: 600 | S4: =+IF('Información General'!E24="IP",0.1,0.1*10.76) -> 1.076 | T4: =+IF('Información General'!E24="IP",0.06,0.06*10.76) -> 0.6456 | U4: =+IF('Información General'!$E$24="IP",0.7,0.7*(1/0.3048)) -> 2.2965879 | V4: =+IF('Información General'!$E$24="IP",0.14,0.14*10.76) -> 1.5064 | W4: =+IF('Información General'!$E$24="IP",1,1*10.76) -> 10.76 | X4: =+IF('Información General'!$E$24="IP",0.05,0.05*10.76) -> 0.538 | Y4: =+IF('Información General'!$E$24="IP",20,20*(1/0.3048)) -> 65.616798 | Z4: =+IF('Información General'!$E$24="IP",20,20*(1/0.3048)) -> 65.616798 | AA4: =+IF('Información General'!$E$24="IP",0.25,0.25*10.76) -> 2.69 | AB4: Ducha | AC4: Sistema 3
E5: HAP | G5: Calido Seco | H5: N/A | J5: Semicalentado | L5: 16 a 25 | M5: 11 a 15 | N5: Marco metálico (todo lo demas) | P5: Zona 3 | Q5: Todas las otras áreas | R5: 750 | S5: =+IF('Información General'!E24="IP",0.15,0.15*10.76) -> 1.614 | T5: =+IF('Información General'!E24="IP",0.1,0.1*10.76) -> 1.076 | U5: =+IF('Información General'!$E$24="IP",0.8,0.8*(1/0.3048)) -> 2.6246719 | V5: =+IF('Información General'!$E$24="IP",0.16,0.16*10.76) -> 1.7216 | W5: =+IF('Información General'!$E$24="IP",1,1*10.76) -> 10.76 | X5: =+IF('Información General'!$E$24="IP",0.05,0.05*10.76) -> 0.538 | Y5: =+IF('Información General'!$E$24="IP",30,30*(1/0.3048)) -> 98.425197 | Z5: =+IF('Información General'!$E$24="IP",20,20*(1/0.3048)) -> 65.616798 | AA5: =+IF('Información General'!$E$24="IP",0.4,0.4*10.76) -> 4.304 | AC5: Sistema 4
E6: IES | L6: 26 a 50 | M6: 16 a 25 | P6: Zona 4 | Q6: Áreas con alta actividad comerciales, áreas metropolitanas designadas por la jurisdicción local | R6: 1300 | S6: =+IF('Información General'!E24="IP",0.2,0.2*10.76) -> 2.152 | T6: =+IF('Información General'!E24="IP",0.13,0.13*10.76) -> 1.3988 | U6: =+IF('Información General'!$E$24="IP",1,1*(1/0.3048)) -> 3.2808399 | V6: =+IF('Información General'!$E$24="IP",0.2,0.2*10.76) -> 2.152 | W6: =+IF('Información General'!$E$24="IP",1,1*10.76) -> 10.76 | X6: =+IF('Información General'!$E$24="IP",0.05,0.05*10.76) -> 0.538 | Y6: =+IF('Información General'!$E$24="IP",30,30*(1/0.3048)) -> 98.425197 | Z6: =+IF('Información General'!$E$24="IP",20,20*(1/0.3048)) -> 65.616798 | AA6: =+IF('Información General'!$E$24="IP",0.4,0.4*10.76) -> 4.304 | AC6: Sistema 5
E7: Trace | L7: 51 a 100 | M7: 26 a 50 | AC7: Sistema 6
E8: Design Builder | L8: >100 | M8: 51 a 100 | AC8: Sistema 7
E9: Otro | M9: >100 | AC9: Sistema 8
AC10: Sistema 9
AC11: Sistema 10
